BEGIN:VCALENDAR
VERSION:2.0
PRODID:-//CRADEF - ECPv6.15.20//NONSGML v1.0//EN
CALSCALE:GREGORIAN
METHOD:PUBLISH
X-WR-CALNAME:CRADEF
X-ORIGINAL-URL:https://cradef.ch
X-WR-CALDESC:Évènements pour CRADEF
REFRESH-INTERVAL;VALUE=DURATION:PT1H
X-Robots-Tag:noindex
X-PUBLISHED-TTL:PT1H
BEGIN:VTIMEZONE
TZID:UTC
BEGIN:STANDARD
TZOFFSETFROM:+0000
TZOFFSETTO:+0000
TZNAME:UTC
DTSTART:20250101T000000
END:STANDARD
END:VTIMEZONE
BEGIN:VEVENT
DTSTART;TZID=UTC:20260613T180000
DTEND;TZID=UTC:20260613T200000
DTSTAMP:20260419T131333
CREATED:20260102T190442Z
LAST-MODIFIED:20260417T060412Z
UID:20032-1781373600-1781380800@cradef.ch
SUMMARY:Conférence : Femmes et autonomisation en zone rurale – Défis et enjeux
DESCRIPTION:Cette conférence met en lumière la situation des femmes vivant en milieu\nrural et les multiples défis auxquels elles sont confrontées dans leur\nquête d’autonomisation économique\, sociale et politique. Actrices\nessentielles du développement local\, elles jouent un rôle central dans\nl’agriculture\, l’éducation des enfants\, la préservation des savoir-faire\ntraditionnels et la cohésion communautaire. Pourtant\, elles font face à\nde nombreuses inégalités : accès limité à la terre\, au financement\, à\nl’éducation\, aux technologies\, aux soins de santé et aux instances de\nprise de décision. \nÀ travers des échanges\, témoignages et analyses d’experts\, cette\nrencontre vise à explorer les principaux obstacles à l’autonomisation\ndes femmes rurales\, mais aussi les opportunités et initiatives porteuses\nde changement. L’accent sera mis sur l’importance de politiques\ninclusives\, de programmes de formation adaptés\, de l’entrepreneuriat\nféminin\, ainsi que du renforcement des capacités et du leadership local. \nLa conférence se veut un espace de réflexion\, de partage d’expériences\net de propositions concrètes pour promouvoir l’égalité des chances et\nrenforcer le rôle des femmes rurales comme piliers du développement\ndurable. Elle s’adresse aux décideurs\, acteurs du développement\,\norganisations de la société civile\, chercheurs\, étudiants et à toute\npersonne engagée en faveur de l’équité et du progrès social.
URL:https://cradef.ch/event/conference-debat/
ATTACH;FMTTYPE=image/jpeg:https://cradef.ch/wp-content/uploads/2026/01/1EF65A61-5DE5-455A-BB60-5AE92B44F420-1.jpeg
END:VEVENT
END:VCALENDAR